BEGIN:VCALENDAR
VERSION:2.0
PRODID:-//TYPO3/NONSGML News system (news)//EN
BEGIN:VEVENT
TZID:Central Europe Standard Time
UID:news-63012@ccb.tu-dortmund.de
DTSTAMP:20260421T130942Z

DTSTART:20260417


LOCATION:Dekanat CCB

DESCRIPTION:https://ccb.tu-dortmund.de/veranstaltungsdetail/auslage-der-dissertation-von-frau-m-sc-hanna-kavaleuskaya-63012/
SUMMARY:Auslage der Dissertation von Frau M. Sc. Hanna Kavaleuskaya
END:VEVENT
END:VCALENDAR
