BEGIN:VCALENDAR
VERSION:2.0
PRODID:-//TYPO3/NONSGML News system (news)//EN
BEGIN:VEVENT
TZID:Central Europe Standard Time
UID:news-63136@ccb.tu-dortmund.de
DTSTAMP:20260424T130056Z

DTSTART:20260505T140000
DTEND:20260505T140000


LOCATION:Raum C2-02-326

DESCRIPTION:https://ccb.tu-dortmund.de/veranstaltungsdetail/ankuendigung-der-promotion-von-frau-m-sc-hanna-kavaleuskaya-63136/
SUMMARY:Ankündigung der Promotion von Frau M. Sc. Hanna Kavaleuskaya
END:VEVENT
END:VCALENDAR
